Package: genomicInstability Version: 1.15.0 Command: /Library/Frameworks/R.framework/Resources/bin/R CMD INSTALL genomicInstability StartedAt: 2025-10-10 15:32:25 -0400 (Fri, 10 Oct 2025) EndedAt: 2025-10-10 15:33:01 -0400 (Fri, 10 Oct 2025) EllapsedTime: 35.9 seconds RetCode: 0 Status: OK