Package: genomicInstability Version: 1.15.0 Command: /Library/Frameworks/R.framework/Resources/bin/R CMD build --keep-empty-dirs --no-resave-data genomicInstability StartedAt: 2025-10-09 17:11:46 -0400 (Thu, 09 Oct 2025) EndedAt: 2025-10-09 17:14:08 -0400 (Thu, 09 Oct 2025) EllapsedTime: 141.6 seconds RetCode: 0 Status: OK PackageFile: genomicInstability_1.15.0.tar.gz PackageFileSize: 1.211 MiB