Package: genomeIntervals Version: 1.67.0 Command: /home/biocbuild/bbs-3.23-bioc/R/bin/R CMD INSTALL genomeIntervals StartedAt: 2025-11-20 15:15:49 -0500 (Thu, 20 Nov 2025) EndedAt: 2025-11-20 15:16:01 -0500 (Thu, 20 Nov 2025) EllapsedTime: 12.1 seconds RetCode: 0 Status: OK