Package: genomeIntervals Version: 1.67.0 Command: /home/biocbuild/bbs-3.23-bioc/R/bin/R CMD build --keep-empty-dirs --no-resave-data genomeIntervals StartedAt: 2025-11-20 17:46:13 -0500 (Thu, 20 Nov 2025) EndedAt: 2025-11-20 17:46:33 -0500 (Thu, 20 Nov 2025) EllapsedTime: 20.0 seconds RetCode: 0 Status: OK PackageFile: genomeIntervals_1.67.0.tar.gz PackageFileSize: 255.4 KiB