Package: genomation Version: 1.43.0 Command: /home/biocbuild/bbs-3.23-bioc/R/bin/R CMD INSTALL genomation StartedAt: 2025-11-04 15:27:50 -0500 (Tue, 04 Nov 2025) EndedAt: 2025-11-04 15:28:38 -0500 (Tue, 04 Nov 2025) EllapsedTime: 48.7 seconds RetCode: 0 Status: OK