Package: genomation Version: 1.43.0 Command: /home/biocbuild/bbs-3.23-bioc/R/bin/R CMD build --keep-empty-dirs --no-resave-data genomation StartedAt: 2025-11-04 17:41:23 -0500 (Tue, 04 Nov 2025) EndedAt: 2025-11-04 17:42:39 -0500 (Tue, 04 Nov 2025) EllapsedTime: 76.1 seconds RetCode: 0 Status: OK PackageFile: genomation_1.43.0.tar.gz PackageFileSize: 6.005 MiB