Package: genomation Version: 1.41.1 Command: /Library/Frameworks/R.framework/Resources/bin/R CMD INSTALL genomation StartedAt: 2025-10-12 15:29:04 -0400 (Sun, 12 Oct 2025) EndedAt: 2025-10-12 15:30:10 -0400 (Sun, 12 Oct 2025) EllapsedTime: 65.7 seconds RetCode: 0 Status: OK