Package: genomation Version: 1.41.1 Command: /Library/Frameworks/R.framework/Resources/bin/R CMD build --keep-empty-dirs --no-resave-data genomation StartedAt: 2025-10-12 17:14:14 -0400 (Sun, 12 Oct 2025) EndedAt: 2025-10-12 17:15:50 -0400 (Sun, 12 Oct 2025) EllapsedTime: 96.1 seconds RetCode: 0 Status: OK PackageFile: genomation_1.41.1.tar.gz PackageFileSize: 6.005 MiB