Package: genomation Version: 1.41.1 Command: rm -rf genomation.buildbin-libdir && mkdir genomation.buildbin-libdir && /Users/biocbuild/BBS/utils/build-universal.sh genomation_1.41.1.tar.gz /Library/Frameworks/R.framework/Resources/bin/R genomation.buildbin-libdir StartedAt: 2025-10-13 02:34:34 -0400 (Mon, 13 Oct 2025) EndedAt: 2025-10-13 02:35:47 -0400 (Mon, 13 Oct 2025) EllapsedTime: 72.6 seconds RetCode: 0 Status: OK PackageFile: genomation_1.41.1.tgz PackageFileSize: 3.021 MiB