Package: geneplotter Version: 1.88.0 Command: /home/biocbuild/bbs-3.22-bioc/R/bin/R CMD check --install=check:geneplotter.install-out.txt --library=/home/biocbuild/bbs-3.22-bioc/R/site-library --timings geneplotter_1.88.0.tar.gz StartedAt: 2025-10-30 06:14:00 -0400 (Thu, 30 Oct 2025) EndedAt: 2025-10-30 06:16:05 -0400 (Thu, 30 Oct 2025) EllapsedTime: 124.3 seconds RetCode: 0 Status: OK CheckDir: geneplotter.Rcheck Warnings: 0