Package: geneplotter Version: 1.89.0 Command: /home/biocbuild/bbs-3.23-bioc/R/bin/R CMD INSTALL geneplotter StartedAt: 2025-11-05 15:34:20 -0500 (Wed, 05 Nov 2025) EndedAt: 2025-11-05 15:34:33 -0500 (Wed, 05 Nov 2025) EllapsedTime: 13.5 seconds RetCode: 0 Status: OK