Package: geneplotter Version: 1.87.0 Command: /Library/Frameworks/R.framework/Resources/bin/R CMD INSTALL geneplotter StartedAt: 2025-10-10 15:30:09 -0400 (Fri, 10 Oct 2025) EndedAt: 2025-10-10 15:30:31 -0400 (Fri, 10 Oct 2025) EllapsedTime: 21.4 seconds RetCode: 0 Status: OK