Package: geneplotter Version: 1.87.0 Command: rm -rf geneplotter.buildbin-libdir && mkdir geneplotter.buildbin-libdir && /Users/biocbuild/BBS/utils/build-universal.sh geneplotter_1.87.0.tar.gz /Library/Frameworks/R.framework/Resources/bin/R geneplotter.buildbin-libdir StartedAt: 2025-10-11 02:31:05 -0400 (Sat, 11 Oct 2025) EndedAt: 2025-10-11 02:31:29 -0400 (Sat, 11 Oct 2025) EllapsedTime: 23.4 seconds RetCode: 0 Status: OK PackageFile: geneplotter_1.87.0.tgz PackageFileSize: 1.761 MiB