Package: genefu Version: 2.43.0 Command: /home/biocbuild/bbs-3.23-bioc/R/bin/R CMD INSTALL genefu StartedAt: 2025-11-02 15:44:32 -0500 (Sun, 02 Nov 2025) EndedAt: 2025-11-02 15:44:55 -0500 (Sun, 02 Nov 2025) EllapsedTime: 23.1 seconds RetCode: 0 Status: OK