Package: genefu Version: 2.43.0 Command: /home/biocbuild/bbs-3.23-bioc/R/bin/R CMD build --keep-empty-dirs --no-resave-data genefu StartedAt: 2025-11-03 17:38:50 -0500 (Mon, 03 Nov 2025) EndedAt: 2025-11-03 17:40:02 -0500 (Mon, 03 Nov 2025) EllapsedTime: 72.1 seconds RetCode: 0 Status: OK PackageFile: genefu_2.43.0.tar.gz PackageFileSize: 4.901 MiB