Package: geneRxCluster Version: 1.47.0 Command: /home/biocbuild/bbs-3.23-bioc/R/bin/R CMD INSTALL geneRxCluster StartedAt: 2025-11-06 15:14:52 -0500 (Thu, 06 Nov 2025) EndedAt: 2025-11-06 15:15:00 -0500 (Thu, 06 Nov 2025) EllapsedTime: 8.5 seconds RetCode: 0 Status: OK