Package: geneRxCluster Version: 1.47.0 Command: /home/biocbuild/bbs-3.23-bioc/R/bin/R CMD build --keep-empty-dirs --no-resave-data geneRxCluster StartedAt: 2025-11-07 17:41:52 -0500 (Fri, 07 Nov 2025) EndedAt: 2025-11-07 17:42:28 -0500 (Fri, 07 Nov 2025) EllapsedTime: 36.1 seconds RetCode: 0 Status: OK PackageFile: geneRxCluster_1.47.0.tar.gz PackageFileSize: 280.5 KiB