Package: geneRxCluster Version: 1.45.0 Command: /Library/Frameworks/R.framework/Resources/bin/R CMD INSTALL geneRxCluster StartedAt: 2025-10-23 15:10:48 -0400 (Thu, 23 Oct 2025) EndedAt: 2025-10-23 15:10:52 -0400 (Thu, 23 Oct 2025) EllapsedTime: 4.4 seconds RetCode: 0 Status: OK