Package: geneClassifiers Version: 1.35.0 Command: /home/biocbuild/bbs-3.23-bioc/R/bin/R CMD INSTALL geneClassifiers StartedAt: 2025-11-20 15:11:24 -0500 (Thu, 20 Nov 2025) EndedAt: 2025-11-20 15:11:31 -0500 (Thu, 20 Nov 2025) EllapsedTime: 6.4 seconds RetCode: 0 Status: OK