Package: geneClassifiers Version: 1.35.0 Command: /home/biocbuild/bbs-3.23-bioc/R/bin/R CMD build --keep-empty-dirs --no-resave-data geneClassifiers StartedAt: 2025-11-20 17:44:05 -0500 (Thu, 20 Nov 2025) EndedAt: 2025-11-20 17:44:17 -0500 (Thu, 20 Nov 2025) EllapsedTime: 12.0 seconds RetCode: 0 Status: OK PackageFile: geneClassifiers_1.35.0.tar.gz PackageFileSize: 1.847 MiB