Package: geneClassifiers Version: 1.33.0 Command: rm -rf geneClassifiers.buildbin-libdir && mkdir geneClassifiers.buildbin-libdir && /Users/biocbuild/BBS/utils/build-universal.sh geneClassifiers_1.33.0.tar.gz /Library/Frameworks/R.framework/Resources/bin/R geneClassifiers.buildbin-libdir StartedAt: 2025-10-25 01:41:30 -0400 (Sat, 25 Oct 2025) EndedAt: 2025-10-25 01:41:42 -0400 (Sat, 25 Oct 2025) EllapsedTime: 11.5 seconds RetCode: 0 Status: OK PackageFile: geneClassifiers_1.33.0.tgz PackageFileSize: 1.888 MiB