Package: geneClassifiers Version: 1.33.0 Command: /Library/Frameworks/R.framework/Resources/bin/R CMD INSTALL geneClassifiers StartedAt: 2025-10-07 15:06:42 -0400 (Tue, 07 Oct 2025) EndedAt: 2025-10-07 15:06:44 -0400 (Tue, 07 Oct 2025) EllapsedTime: 2.2 seconds RetCode: 0 Status: OK