Package: geneClassifiers Version: 1.33.0 Command: /Library/Frameworks/R.framework/Resources/bin/R CMD build --keep-empty-dirs --no-resave-data geneClassifiers StartedAt: 2025-10-07 16:28:05 -0400 (Tue, 07 Oct 2025) EndedAt: 2025-10-07 16:28:12 -0400 (Tue, 07 Oct 2025) EllapsedTime: 7.1 seconds RetCode: 0 Status: OK PackageFile: geneClassifiers_1.33.0.tar.gz PackageFileSize: 1.847 MiB