Package: geneClassifiers Version: 1.33.0 Command: rm -rf geneClassifiers.buildbin-libdir && mkdir geneClassifiers.buildbin-libdir && /Users/biocbuild/BBS/utils/build-universal.sh geneClassifiers_1.33.0.tar.gz /Library/Frameworks/R.framework/Resources/bin/R geneClassifiers.buildbin-libdir StartedAt: 2025-10-07 22:46:28 -0400 (Tue, 07 Oct 2025) EndedAt: 2025-10-07 22:46:31 -0400 (Tue, 07 Oct 2025) EllapsedTime: 3.1 seconds RetCode: 0 Status: OK PackageFile: geneClassifiers_1.33.0.tgz PackageFileSize: 1.891 MiB