Package: geneAttribution Version: 1.37.0 Command: /home/biocbuild/bbs-3.23-bioc/R/bin/R CMD INSTALL geneAttribution StartedAt: 2025-11-21 15:45:26 -0500 (Fri, 21 Nov 2025) EndedAt: 2025-11-21 15:45:59 -0500 (Fri, 21 Nov 2025) EllapsedTime: 32.9 seconds RetCode: 0 Status: OK