Package: geneAttribution Version: 1.37.0 Command: /home/biocbuild/bbs-3.23-bioc/R/bin/R CMD build --keep-empty-dirs --no-resave-data geneAttribution StartedAt: 2025-11-21 17:43:10 -0500 (Fri, 21 Nov 2025) EndedAt: 2025-11-21 17:43:45 -0500 (Fri, 21 Nov 2025) EllapsedTime: 35.0 seconds RetCode: 0 Status: OK PackageFile: geneAttribution_1.37.0.tar.gz PackageFileSize: 39.19 KiB