Package: geneAttribution Version: 1.37.0 Command: /Library/Frameworks/R.framework/Resources/bin/R CMD build --keep-empty-dirs --no-resave-data geneAttribution StartedAt: 2025-11-20 16:25:20 -0500 (Thu, 20 Nov 2025) EndedAt: 2025-11-20 16:25:34 -0500 (Thu, 20 Nov 2025) EllapsedTime: 14.2 seconds RetCode: 0 Status: OK PackageFile: geneAttribution_1.37.0.tar.gz PackageFileSize: 39.19 KiB