Package: geneAttribution Version: 1.37.0 Command: rm -rf geneAttribution.buildbin-libdir && mkdir geneAttribution.buildbin-libdir && /Users/biocbuild/BBS/utils/build-universal.sh geneAttribution_1.37.0.tar.gz /Library/Frameworks/R.framework/Resources/bin/R geneAttribution.buildbin-libdir StartedAt: 2025-11-20 23:34:31 -0500 (Thu, 20 Nov 2025) EndedAt: 2025-11-20 23:34:48 -0500 (Thu, 20 Nov 2025) EllapsedTime: 16.4 seconds RetCode: 0 Status: OK PackageFile: geneAttribution_1.37.0.tgz PackageFileSize: 64.14 KiB