Package: genArise Version: 1.87.0 Command: /home/biocbuild/bbs-3.23-bioc/R/bin/R CMD INSTALL genArise StartedAt: 2025-10-31 15:12:41 -0400 (Fri, 31 Oct 2025) EndedAt: 2025-10-31 15:13:09 -0400 (Fri, 31 Oct 2025) EllapsedTime: 28.4 seconds RetCode: 0 Status: OK