Package: genArise Version: 1.87.0 Command: /home/biocbuild/bbs-3.23-bioc/R/bin/R CMD build --keep-empty-dirs --no-resave-data genArise StartedAt: 2025-11-02 17:42:34 -0500 (Sun, 02 Nov 2025) EndedAt: 2025-11-02 17:42:45 -0500 (Sun, 02 Nov 2025) EllapsedTime: 11.0 seconds RetCode: 0 Status: OK PackageFile: genArise_1.87.0.tar.gz PackageFileSize: 1.023 MiB