Package: genArise Version: 1.87.0 Command: /Library/Frameworks/R.framework/Resources/bin/R CMD INSTALL genArise StartedAt: 2025-11-20 15:12:19 -0500 (Thu, 20 Nov 2025) EndedAt: 2025-11-20 15:12:53 -0500 (Thu, 20 Nov 2025) EllapsedTime: 33.5 seconds RetCode: 0 Status: OK