Package: genArise Version: 1.87.0 Command: /Library/Frameworks/R.framework/Resources/bin/R CMD build --keep-empty-dirs --no-resave-data genArise StartedAt: 2025-11-20 17:06:12 -0500 (Thu, 20 Nov 2025) EndedAt: 2025-11-20 17:06:30 -0500 (Thu, 20 Nov 2025) EllapsedTime: 18.3 seconds RetCode: 0 Status: OK PackageFile: genArise_1.87.0.tar.gz PackageFileSize: 1.022 MiB