Package: genArise Version: 1.85.0 Command: /Library/Frameworks/R.framework/Resources/bin/R CMD INSTALL genArise StartedAt: 2025-10-09 15:03:17 -0400 (Thu, 09 Oct 2025) EndedAt: 2025-10-09 15:03:26 -0400 (Thu, 09 Oct 2025) EllapsedTime: 8.6 seconds RetCode: 0 Status: OK