Package: genArise Version: 1.85.0 Command: /Library/Frameworks/R.framework/Resources/bin/R CMD build --keep-empty-dirs --no-resave-data genArise StartedAt: 2025-10-10 16:28:57 -0400 (Fri, 10 Oct 2025) EndedAt: 2025-10-10 16:29:04 -0400 (Fri, 10 Oct 2025) EllapsedTime: 7.1 seconds RetCode: 0 Status: OK PackageFile: genArise_1.85.0.tar.gz PackageFileSize: 1.025 MiB