Package: gemini Version: 1.23.0 Command: /home/biocbuild/R/R/bin/R CMD build --keep-empty-dirs --no-resave-data gemini StartedAt: 2025-10-20 23:55:32 -0000 (Mon, 20 Oct 2025) EndedAt: 2025-10-20 23:56:10 -0000 (Mon, 20 Oct 2025) EllapsedTime: 38.0 seconds RetCode: 0 Status: OK PackageFile: gemini_1.23.0.tar.gz PackageFileSize: 4.03 MiB