Package: gemini Version: 1.23.0 Command: rm -rf gemini.buildbin-libdir && mkdir gemini.buildbin-libdir && F:\biocbuild\bbs-3.22-bioc\R\bin\R.exe CMD INSTALL --build --library=gemini.buildbin-libdir gemini_1.23.0.tar.gz StartedAt: 2025-08-15 10:19:31 -0400 (Fri, 15 Aug 2025) EndedAt: 2025-08-15 10:19:54 -0400 (Fri, 15 Aug 2025) EllapsedTime: 23.7 seconds RetCode: 0 Status: OK PackageFile: gemini_1.23.0.zip PackageFileSize: 4.137 MiB