Package: gemini Version: 1.25.0 Command: /home/biocbuild/bbs-3.23-bioc/R/bin/R CMD INSTALL gemini StartedAt: 2025-11-20 15:08:19 -0500 (Thu, 20 Nov 2025) EndedAt: 2025-11-20 15:08:33 -0500 (Thu, 20 Nov 2025) EllapsedTime: 14.8 seconds RetCode: 0 Status: OK