Package: gemini Version: 1.25.0 Command: /home/biocbuild/bbs-3.23-bioc/R/bin/R CMD check --install=check:gemini.install-out.txt --library=/home/biocbuild/bbs-3.23-bioc/R/site-library --timings gemini_1.25.0.tar.gz StartedAt: 2025-11-21 23:46:50 -0500 (Fri, 21 Nov 2025) EndedAt: 2025-11-21 23:49:16 -0500 (Fri, 21 Nov 2025) EllapsedTime: 146.2 seconds RetCode: 0 Status: OK CheckDir: gemini.Rcheck Warnings: 0