Package: geNetClassifier Version: 1.51.0 Command: /home/biocbuild/bbs-3.23-bioc/R/bin/R CMD build --keep-empty-dirs --no-resave-data geNetClassifier StartedAt: 2025-10-31 17:56:21 -0400 (Fri, 31 Oct 2025) EndedAt: 2025-10-31 17:56:38 -0400 (Fri, 31 Oct 2025) EllapsedTime: 17.0 seconds RetCode: 0 Status: OK PackageFile: geNetClassifier_1.51.0.tar.gz PackageFileSize: 3.94 MiB