Package: gdsfmt Version: 1.45.2 Command: /home/biocbuild/bbs-3.22-bioc/R/bin/R CMD check --install=check:gdsfmt.install-out.txt --library=/home/biocbuild/bbs-3.22-bioc/R/site-library --timings gdsfmt_1.45.2.tar.gz StartedAt: 2025-10-16 00:37:14 -0400 (Thu, 16 Oct 2025) EndedAt: 2025-10-16 00:39:23 -0400 (Thu, 16 Oct 2025) EllapsedTime: 129.1 seconds RetCode: 0 Status: OK CheckDir: gdsfmt.Rcheck Warnings: 0