Package: gdsfmt Version: 1.47.0 Command: /home/biocbuild/bbs-3.23-bioc/R/bin/R CMD INSTALL gdsfmt StartedAt: 2025-11-04 15:01:48 -0500 (Tue, 04 Nov 2025) EndedAt: 2025-11-04 15:05:59 -0500 (Tue, 04 Nov 2025) EllapsedTime: 250.9 seconds RetCode: 0 Status: OK