Package: gdsfmt Version: 1.45.1 Command: /Library/Frameworks/R.framework/Resources/bin/R CMD INSTALL gdsfmt StartedAt: 2025-09-30 15:05:08 -0400 (Tue, 30 Sep 2025) EndedAt: 2025-09-30 15:08:27 -0400 (Tue, 30 Sep 2025) EllapsedTime: 199.4 seconds RetCode: 0 Status: OK