Package: gdsfmt Version: 1.45.1 Command: /Library/Frameworks/R.framework/Resources/bin/R CMD build --keep-empty-dirs --no-resave-data gdsfmt StartedAt: 2025-09-30 17:03:46 -0400 (Tue, 30 Sep 2025) EndedAt: 2025-09-30 17:07:52 -0400 (Tue, 30 Sep 2025) EllapsedTime: 246.1 seconds RetCode: 0 Status: OK PackageFile: gdsfmt_1.45.1.tar.gz PackageFileSize: 2.796 MiB