Back to Build/check report for BioC 3.23:   simplified   long
ABCDEF[G]HIJKLMNOPQRSTUVWXYZ

This page was generated on 2025-10-31 08:34 -0400 (Fri, 31 Oct 2025).

HostnameOSArch (*)R versionInstalled pkgs
nebbiolo1Linux (Ubuntu 24.04.3 LTS)x86_64R Under development (unstable) (2025-10-20 r88955) -- "Unsuffered Consequences" 4428
Click on any hostname to see more info about the system (e.g. compilers)      (*) as reported by 'uname -p', except on Windows and Mac OS X

All results for package gdsfmt


To the developers/maintainers of the gdsfmt package:
- Allow up to 24 hours (and sometimes 48 hours) for your latest push to git@git.bioconductor.org:packages/gdsfmt.git to reflect on this report. See Troubleshooting Build Report for more information.
- Use the following Renviron settings to reproduce errors and warnings.
- If 'R CMD check' started to fail recently on the Linux builder(s) over a missing dependency, add the missing dependency to 'Suggests:' in your DESCRIPTION file. See Renviron.bioc for more information.

raw results

Package 797/2321HostnameOS / ArchINSTALLBUILDCHECKBUILD BIN
gdsfmt 1.47.0  (landing page)
Xiuwen Zheng
Snapshot Date: 2025-10-30 13:40 -0400 (Thu, 30 Oct 2025)
git_url: https://git.bioconductor.org/packages/gdsfmt
git_branch: devel
git_last_commit: 650aa25
git_last_commit_date: 2025-10-29 10:23:33 -0400 (Wed, 29 Oct 2025)
nebbiolo1Linux (Ubuntu 24.04.3 LTS) / x86_64  OK    OK    OK  YES



Results for Bioconductor software packages that depend directly on package gdsfmt

QUICK STATSOS / ArchINSTALLBUILDCHECKBUILD BIN
nebbiolo1Linux (Ubuntu 24.04.3 LTS) / x86_64
0115
0610
0019
Package 1/16HostnameOS / ArchINSTALLBUILDCHECKBUILD BIN
bigmelon 1.37.0  (landing page)
Leonard C. Schalkwyk
git_last_commit: 142a0e8
git_last_commit_date: 2025-10-29 10:34:27 -0400
nebbiolo1Linux (Ubuntu 24.04.3 LTS) / x86_64  ERROR    ERROR  skipped
Package 2/16HostnameOS / ArchINSTALLBUILDCHECKBUILD BIN
CNVRanger 1.27.0  (landing page)
Ludwig Geistlinger
git_last_commit: 16600ca
git_last_commit_date: 2025-10-29 10:49:57 -0400
nebbiolo1Linux (Ubuntu 24.04.3 LTS) / x86_64  OK    ERROR  skipped
Package 3/16HostnameOS / ArchINSTALLBUILDCHECKBUILD BIN
GBScleanR 2.5.0  (landing page)
Tomoyuki Furuta
git_last_commit: 13dd39e
git_last_commit_date: 2025-10-29 11:14:15 -0400
nebbiolo1Linux (Ubuntu 24.04.3 LTS) / x86_64  OK    ERROR  skipped
Package 4/16HostnameOS / ArchINSTALLBUILDCHECKBUILD BIN
GDSArray 1.31.0  (landing page)
Xiuwen Zheng
git_last_commit: 4ed315e
git_last_commit_date: 2025-10-29 10:44:25 -0400
nebbiolo1Linux (Ubuntu 24.04.3 LTS) / x86_64  OK    OK    OK  NO, package depends on 'DelayedArray' which is not available
Package 5/16HostnameOS / ArchINSTALLBUILDCHECKBUILD BIN
GENESIS 2.41.0  (landing page)
Stephanie M. Gogarten
git_last_commit: 035a040
git_last_commit_date: 2025-10-29 10:24:42 -0400
nebbiolo1Linux (Ubuntu 24.04.3 LTS) / x86_64  OK    OK    OK  NO, package depends on 'GenomicRanges' which is not available
Package 6/16HostnameOS / ArchINSTALLBUILDCHECKBUILD BIN
ggmanh 1.15.0  (landing page)
John Lee
git_last_commit: 3e4cc5e
git_last_commit_date: 2025-10-29 11:14:02 -0400
nebbiolo1Linux (Ubuntu 24.04.3 LTS) / x86_64  OK    OK    OK  NO, package depends on 'SeqArray' which is not available
Package 7/16HostnameOS / ArchINSTALLBUILDCHECKBUILD BIN
GWASTools 1.57.0  (landing page)
Stephanie M. Gogarten
git_last_commit: 224f71a
git_last_commit_date: 2025-10-29 10:09:16 -0400
nebbiolo1Linux (Ubuntu 24.04.3 LTS) / x86_64  OK    OK    OK  YES
Package 8/16HostnameOS / ArchINSTALLBUILDCHECKBUILD BIN
RAIDS 1.9.0  (landing page)
Pascal Belleau
git_last_commit: 27cee94
git_last_commit_date: 2025-10-29 11:25:36 -0400
nebbiolo1Linux (Ubuntu 24.04.3 LTS) / x86_64  OK    ERROR  skipped
Package 9/16HostnameOS / ArchINSTALLBUILDCHECKBUILD BIN
SAIGEgds 2.11.0  (landing page)
Xiuwen Zheng
git_last_commit: bdd3863
git_last_commit_date: 2025-10-29 10:54:47 -0400
nebbiolo1Linux (Ubuntu 24.04.3 LTS) / x86_64  OK    OK    OK  NO, package depends on 'SeqArray' which is not available
Package 10/16HostnameOS / ArchINSTALLBUILDCHECKBUILD BIN
SCArray 1.19.0  (landing page)
Xiuwen Zheng
git_last_commit: d488bb9
git_last_commit_date: 2025-10-29 11:05:31 -0400
nebbiolo1Linux (Ubuntu 24.04.3 LTS) / x86_64  OK    OK    OK  NO, package depends on 'DelayedArray' which is not available
Package 11/16HostnameOS / ArchINSTALLBUILDCHECKBUILD BIN
SCArray.sat 1.11.0  (landing page)
Xiuwen Zheng
git_last_commit: 10b697d
git_last_commit_date: 2025-10-29 11:22:05 -0400
nebbiolo1Linux (Ubuntu 24.04.3 LTS) / x86_64  OK    ERROR  skipped
Package 12/16HostnameOS / ArchINSTALLBUILDCHECKBUILD BIN
SeqArray 1.51.0  (landing page)
Xiuwen Zheng
git_last_commit: bcbe85d
git_last_commit_date: 2025-10-29 10:14:07 -0400
nebbiolo1Linux (Ubuntu 24.04.3 LTS) / x86_64  OK    ERROR  skipped
Package 13/16HostnameOS / ArchINSTALLBUILDCHECKBUILD BIN
SeqSQC 1.33.0  (landing page)
Qian Liu
git_last_commit: 1bf7b5e
git_last_commit_date: 2025-10-29 10:41:52 -0400
nebbiolo1Linux (Ubuntu 24.04.3 LTS) / x86_64  OK    OK    WARNINGS  NO, package depends on 'ExperimentHub' which is not available
Package 14/16HostnameOS / ArchINSTALLBUILDCHECKBUILD BIN
SeqVarTools 1.49.0  (landing page)
Stephanie M. Gogarten
git_last_commit: 2d4221b
git_last_commit_date: 2025-10-29 10:15:55 -0400
nebbiolo1Linux (Ubuntu 24.04.3 LTS) / x86_64  OK    OK    OK  NO, package depends on 'SeqArray' which is not available
Package 15/16HostnameOS / ArchINSTALLBUILDCHECKBUILD BIN
SNPRelate 1.45.0  (landing page)
Xiuwen Zheng
git_last_commit: 3bd5f10
git_last_commit_date: 2025-10-29 10:21:20 -0400
nebbiolo1Linux (Ubuntu 24.04.3 LTS) / x86_64  OK    OK    OK  YES
Package 16/16HostnameOS / ArchINSTALLBUILDCHECKBUILD BIN
VariantExperiment 1.25.0  (landing page)
Qian Liu
git_last_commit: 230466e
git_last_commit_date: 2025-10-29 10:53:44 -0400
nebbiolo1Linux (Ubuntu 24.04.3 LTS) / x86_64  OK    OK    OK  NO, package depends on 'SummarizedExperiment' which is not available