Package: gcrma Version: 2.83.0 Command: /home/biocbuild/bbs-3.23-bioc/R/bin/R CMD INSTALL gcrma StartedAt: 2025-11-20 15:14:42 -0500 (Thu, 20 Nov 2025) EndedAt: 2025-11-20 15:14:53 -0500 (Thu, 20 Nov 2025) EllapsedTime: 10.9 seconds RetCode: 0 Status: OK