Package: gcrma Version: 2.83.0 Command: /home/biocbuild/bbs-3.23-bioc/R/bin/R CMD build --keep-empty-dirs --no-resave-data gcrma StartedAt: 2025-11-20 17:42:28 -0500 (Thu, 20 Nov 2025) EndedAt: 2025-11-20 17:42:42 -0500 (Thu, 20 Nov 2025) EllapsedTime: 14.0 seconds RetCode: 0 Status: OK PackageFile: gcrma_2.83.0.tar.gz PackageFileSize: 289.2 KiB