Package: gcrma Version: 2.81.0 Command: /Library/Frameworks/R.framework/Resources/bin/R CMD INSTALL gcrma StartedAt: 2025-10-19 15:08:03 -0400 (Sun, 19 Oct 2025) EndedAt: 2025-10-19 15:08:08 -0400 (Sun, 19 Oct 2025) EllapsedTime: 4.6 seconds RetCode: 0 Status: OK