Package: gcrma Version: 2.81.0 Command: /Library/Frameworks/R.framework/Resources/bin/R CMD build --keep-empty-dirs --no-resave-data gcrma StartedAt: 2025-10-19 16:26:03 -0400 (Sun, 19 Oct 2025) EndedAt: 2025-10-19 16:26:11 -0400 (Sun, 19 Oct 2025) EllapsedTime: 8.1 seconds RetCode: 0 Status: OK PackageFile: gcrma_2.81.0.tar.gz PackageFileSize: 289.4 KiB