Package: gcrma Version: 2.81.0 Command: rm -rf gcrma.buildbin-libdir && mkdir gcrma.buildbin-libdir && /Users/biocbuild/BBS/utils/build-universal.sh gcrma_2.81.0.tar.gz /Library/Frameworks/R.framework/Resources/bin/R gcrma.buildbin-libdir StartedAt: 2025-10-19 23:00:18 -0400 (Sun, 19 Oct 2025) EndedAt: 2025-10-19 23:00:24 -0400 (Sun, 19 Oct 2025) EllapsedTime: 6.2 seconds RetCode: 0 Status: OK PackageFile: gcrma_2.81.0.tgz PackageFileSize: 390.2 KiB