Package: gcatest Version: 2.11.0 Command: /home/biocbuild/bbs-3.23-bioc/R/bin/R CMD INSTALL gcatest StartedAt: 2025-11-20 15:04:57 -0500 (Thu, 20 Nov 2025) EndedAt: 2025-11-20 15:05:10 -0500 (Thu, 20 Nov 2025) EllapsedTime: 12.9 seconds RetCode: 0 Status: OK